BEGIN:VCALENDAR
VERSION:2.0
PRODID:-//TJ Audiology Training - ECPv6.15.20//NONSGML v1.0//EN
CALSCALE:GREGORIAN
METHOD:PUBLISH
X-ORIGINAL-URL:https://tjaudiology.com
X-WR-CALDESC:Events for TJ Audiology Training
REFRESH-INTERVAL;VALUE=DURATION:PT1H
X-Robots-Tag:noindex
X-PUBLISHED-TTL:PT1H
BEGIN:VTIMEZONE
TZID:Europe/London
BEGIN:DAYLIGHT
TZOFFSETFROM:+0000
TZOFFSETTO:+0100
TZNAME:BST
DTSTART:20210328T010000
END:DAYLIGHT
BEGIN:STANDARD
TZOFFSETFROM:+0100
TZOFFSETTO:+0000
TZNAME:GMT
DTSTART:20211031T010000
END:STANDARD
BEGIN:DAYLIGHT
TZOFFSETFROM:+0000
TZOFFSETTO:+0100
TZNAME:BST
DTSTART:20220327T010000
END:DAYLIGHT
BEGIN:STANDARD
TZOFFSETFROM:+0100
TZOFFSETTO:+0000
TZNAME:GMT
DTSTART:20221030T010000
END:STANDARD
BEGIN:DAYLIGHT
TZOFFSETFROM:+0000
TZOFFSETTO:+0100
TZNAME:BST
DTSTART:20230326T010000
END:DAYLIGHT
BEGIN:STANDARD
TZOFFSETFROM:+0100
TZOFFSETTO:+0000
TZNAME:GMT
DTSTART:20231029T010000
END:STANDARD
END:VTIMEZONE
BEGIN:VEVENT
DTSTART;TZID=Europe/London:20221019T090000
DTEND;TZID=Europe/London:20221019T170000
DTSTAMP:20260425T114010
CREATED:20220318T054527Z
LAST-MODIFIED:20220318T055421Z
UID:2133-1666170000-1666198800@tjaudiology.com
SUMMARY:19th October 2022 - BSA Certificate in Impression Taking
DESCRIPTION:
URL:https://tjaudiology.com/event/9th-october-2022-bsa-certificate-in-impression-taking/
LOCATION:Newbury College\, Monks Lane\, Newbury\, Berkshire\, RG14 7TD\, United Kingdom
END:VEVENT
BEGIN:VEVENT
DTSTART;TZID=Europe/London:20220907T090000
DTEND;TZID=Europe/London:20220907T170000
DTSTAMP:20260425T114010
CREATED:20220318T054312Z
LAST-MODIFIED:20220318T054312Z
UID:2128-1662541200-1662570000@tjaudiology.com
SUMMARY:7th September 2022 - BSA Certificate in Impression Taking
DESCRIPTION:
URL:https://tjaudiology.com/event/7th-september-2022-bsa-certificate-in-impression-taking/
LOCATION:Newbury College\, Monks Lane\, Newbury\, Berkshire\, RG14 7TD\, United Kingdom
END:VEVENT
END:VCALENDAR